BEGIN:VCALENDAR
VERSION:2.0
PRODID:-//Horton Kirby CofE Primary School - ECPv6.15.20//NONSGML v1.0//EN
CALSCALE:GREGORIAN
METHOD:PUBLISH
X-WR-CALNAME:Horton Kirby CofE Primary School
X-ORIGINAL-URL:https://www.hortonkirby.kent.sch.uk
X-WR-CALDESC:Events for Horton Kirby CofE Primary School
REFRESH-INTERVAL;VALUE=DURATION:PT1H
X-Robots-Tag:noindex
X-PUBLISHED-TTL:PT1H
BEGIN:VTIMEZONE
TZID:Europe/London
BEGIN:DAYLIGHT
TZOFFSETFROM:+0000
TZOFFSETTO:+0100
TZNAME:BST
DTSTART:20230326T010000
END:DAYLIGHT
BEGIN:STANDARD
TZOFFSETFROM:+0100
TZOFFSETTO:+0000
TZNAME:GMT
DTSTART:20231029T010000
END:STANDARD
BEGIN:DAYLIGHT
TZOFFSETFROM:+0000
TZOFFSETTO:+0100
TZNAME:BST
DTSTART:20240331T010000
END:DAYLIGHT
BEGIN:STANDARD
TZOFFSETFROM:+0100
TZOFFSETTO:+0000
TZNAME:GMT
DTSTART:20241027T010000
END:STANDARD
BEGIN:DAYLIGHT
TZOFFSETFROM:+0000
TZOFFSETTO:+0100
TZNAME:BST
DTSTART:20250330T010000
END:DAYLIGHT
BEGIN:STANDARD
TZOFFSETFROM:+0100
TZOFFSETTO:+0000
TZNAME:GMT
DTSTART:20251026T010000
END:STANDARD
BEGIN:DAYLIGHT
TZOFFSETFROM:+0000
TZOFFSETTO:+0100
TZNAME:BST
DTSTART:20260329T010000
END:DAYLIGHT
BEGIN:STANDARD
TZOFFSETFROM:+0100
TZOFFSETTO:+0000
TZNAME:GMT
DTSTART:20261025T010000
END:STANDARD
END:VTIMEZONE
BEGIN:VEVENT
DTSTART;VALUE=DATE:20251002
DTEND;VALUE=DATE:20251003
DTSTAMP:20260422T025245
CREATED:20250805T094027Z
LAST-MODIFIED:20250805T094027Z
UID:16203-1759363200-1759449599@www.hortonkirby.kent.sch.uk
SUMMARY:Book Fair (in hall)
DESCRIPTION:
URL:https://www.hortonkirby.kent.sch.uk/event/book-fair-in-hall-5/
END:VEVENT
BEGIN:VEVENT
DTSTART;VALUE=DATE:20250930
DTEND;VALUE=DATE:20251001
DTSTAMP:20260422T025245
CREATED:20250805T094002Z
LAST-MODIFIED:20250805T094002Z
UID:16201-1759190400-1759276799@www.hortonkirby.kent.sch.uk
SUMMARY:Book Fair (in hall)
DESCRIPTION:
URL:https://www.hortonkirby.kent.sch.uk/event/book-fair-in-hall-4/
END:VEVENT
BEGIN:VEVENT
DTSTART;TZID=Europe/London:20250919T140000
DTEND;TZID=Europe/London:20250919T150000
DTSTAMP:20260422T025245
CREATED:20250805T093650Z
LAST-MODIFIED:20250805T093650Z
UID:16199-1758290400-1758294000@www.hortonkirby.kent.sch.uk
SUMMARY:Year 5 & 6 Coffee and Expectation Afternoon
DESCRIPTION:
URL:https://www.hortonkirby.kent.sch.uk/event/year-5-6-coffee-and-expectation-afternoon/
END:VEVENT
BEGIN:VEVENT
DTSTART;TZID=Europe/London:20250917T141500
DTEND;TZID=Europe/London:20250917T150000
DTSTAMP:20260422T025245
CREATED:20250805T093139Z
LAST-MODIFIED:20250805T093546Z
UID:16197-1758118500-1758121200@www.hortonkirby.kent.sch.uk
SUMMARY:SENDCo Coffee Afternoon
DESCRIPTION:
URL:https://www.hortonkirby.kent.sch.uk/event/sendco-coffee-afternoon-2/
END:VEVENT
BEGIN:VEVENT
DTSTART;TZID=Europe/London:20250915T140000
DTEND;TZID=Europe/London:20250915T150000
DTSTAMP:20260422T025245
CREATED:20250805T093036Z
LAST-MODIFIED:20250805T093047Z
UID:16194-1757944800-1757948400@www.hortonkirby.kent.sch.uk
SUMMARY:Year 3 & 4 Coffee and Expectation Afternoon
DESCRIPTION:
URL:https://www.hortonkirby.kent.sch.uk/event/year-3-4-coffe-and-expectation-afternoon/
END:VEVENT
BEGIN:VEVENT
DTSTART;VALUE=DATE:20250911
DTEND;VALUE=DATE:20250912
DTSTAMP:20260422T025245
CREATED:20250805T092946Z
LAST-MODIFIED:20250805T092946Z
UID:16192-1757548800-1757635199@www.hortonkirby.kent.sch.uk
SUMMARY:Year 6 Kent Test (11+)
DESCRIPTION:
URL:https://www.hortonkirby.kent.sch.uk/event/year-6-kent-test-11-4/
END:VEVENT
BEGIN:VEVENT
DTSTART;TZID=Europe/London:20250909T140000
DTEND;TZID=Europe/London:20250909T150000
DTSTAMP:20260422T025245
CREATED:20250805T092906Z
LAST-MODIFIED:20250805T092906Z
UID:16190-1757426400-1757430000@www.hortonkirby.kent.sch.uk
SUMMARY:Year 1 & 2 Coffee and Expectation Afternoon
DESCRIPTION:
URL:https://www.hortonkirby.kent.sch.uk/event/year-1-2-coffee-and-expectation-afternoon/
END:VEVENT
BEGIN:VEVENT
DTSTART;TZID=Europe/London:20250908T140000
DTEND;TZID=Europe/London:20250908T150000
DTSTAMP:20260422T025245
CREATED:20250805T092816Z
LAST-MODIFIED:20250805T092816Z
UID:16188-1757340000-1757343600@www.hortonkirby.kent.sch.uk
SUMMARY:EYFS Coffee & Expectation Afternoon
DESCRIPTION:
URL:https://www.hortonkirby.kent.sch.uk/event/eyfs-coffee-expectation-afternoon/
CATEGORIES:School
END:VEVENT
BEGIN:VEVENT
DTSTART;VALUE=DATE:20250903
DTEND;VALUE=DATE:20250904
DTSTAMP:20260422T025245
CREATED:20240905T144047Z
LAST-MODIFIED:20240905T144047Z
UID:15588-1756857600-1756943999@www.hortonkirby.kent.sch.uk
SUMMARY:Start of Term 1
DESCRIPTION:
URL:https://www.hortonkirby.kent.sch.uk/event/start-of-term-1/
END:VEVENT
BEGIN:VEVENT
DTSTART;VALUE=DATE:20250902
DTEND;VALUE=DATE:20250903
DTSTAMP:20260422T025245
CREATED:20240905T144700Z
LAST-MODIFIED:20240905T144700Z
UID:15608-1756771200-1756857599@www.hortonkirby.kent.sch.uk
SUMMARY:Staff Development Day
DESCRIPTION:No Pupils in school
URL:https://www.hortonkirby.kent.sch.uk/event/staff-development-day-2/
END:VEVENT
BEGIN:VEVENT
DTSTART;VALUE=DATE:20250901
DTEND;VALUE=DATE:20250902
DTSTAMP:20260422T025245
CREATED:20240905T144700Z
LAST-MODIFIED:20240905T144700Z
UID:15607-1756684800-1756771199@www.hortonkirby.kent.sch.uk
SUMMARY:Staff Development Day
DESCRIPTION:No Pupils in school
URL:https://www.hortonkirby.kent.sch.uk/event/staff-development-day/
END:VEVENT
BEGIN:VEVENT
DTSTART;VALUE=DATE:20250723
DTEND;VALUE=DATE:20250724
DTSTAMP:20260422T025245
CREATED:20220907T115033Z
LAST-MODIFIED:20240924T093010Z
UID:12310-1753228800-1753315199@www.hortonkirby.kent.sch.uk
SUMMARY:Last Day of School
DESCRIPTION:School finishes 14:15. Year 6 children to come to school in fancy dress and take part in a leavers parade at 8:45.
URL:https://www.hortonkirby.kent.sch.uk/event/the-last-day-of-school-school-will-finish-at-14-15-year-6-children-will-come-to-school-in-fancy-dress-and-take-part-in-a-leavers-parade-at-8-45am-2/
CATEGORIES:Term Dates
END:VEVENT
BEGIN:VEVENT
DTSTART;VALUE=DATE:20250707
DTEND;VALUE=DATE:20250708
DTSTAMP:20260422T025245
CREATED:20220907T114947Z
LAST-MODIFIED:20240729T195413Z
UID:12304-1751846400-1751932799@www.hortonkirby.kent.sch.uk
SUMMARY:Staff inset day - children not in school.
DESCRIPTION:
URL:https://www.hortonkirby.kent.sch.uk/event/staff-inset-day-children-not-in-school-6/
END:VEVENT
BEGIN:VEVENT
DTSTART;TZID=Europe/London:20250602T000000
DTEND;TZID=Europe/London:20250602T000000
DTSTAMP:20260422T025245
CREATED:20220907T114753Z
LAST-MODIFIED:20240729T195338Z
UID:12298-1748822400-1748822400@www.hortonkirby.kent.sch.uk
SUMMARY:First day of Term 6.
DESCRIPTION:
URL:https://www.hortonkirby.kent.sch.uk/event/first-day-of-term-6-2/
END:VEVENT
BEGIN:VEVENT
DTSTART;VALUE=DATE:20250523
DTEND;VALUE=DATE:20250524
DTSTAMP:20260422T025245
CREATED:20220907T114753Z
LAST-MODIFIED:20240729T195324Z
UID:12297-1747958400-1748044799@www.hortonkirby.kent.sch.uk
SUMMARY:Last day of Term 5
DESCRIPTION:
URL:https://www.hortonkirby.kent.sch.uk/event/last-day-of-term-5-school-finishes-at-15-15-2/
END:VEVENT
BEGIN:VEVENT
DTSTART;VALUE=DATE:20250505
DTEND;VALUE=DATE:20250506
DTSTAMP:20260422T025245
CREATED:20220907T114553Z
LAST-MODIFIED:20240729T195306Z
UID:12293-1746403200-1746489599@www.hortonkirby.kent.sch.uk
SUMMARY:Bank Holiday.
DESCRIPTION:
URL:https://www.hortonkirby.kent.sch.uk/event/bank-holiday-2/
END:VEVENT
BEGIN:VEVENT
DTSTART;VALUE=DATE:20250422
DTEND;VALUE=DATE:20250423
DTSTAMP:20260422T025245
CREATED:20220907T114553Z
LAST-MODIFIED:20240729T195252Z
UID:12291-1745280000-1745366399@www.hortonkirby.kent.sch.uk
SUMMARY:First day of Term 5.
DESCRIPTION:
URL:https://www.hortonkirby.kent.sch.uk/event/first-day-of-term-5-2/
END:VEVENT
BEGIN:VEVENT
DTSTART;VALUE=DATE:20250404
DTEND;VALUE=DATE:20250405
DTSTAMP:20260422T025245
CREATED:20220907T114553Z
LAST-MODIFIED:20240918T154053Z
UID:12289-1743724800-1743811199@www.hortonkirby.kent.sch.uk
SUMMARY:Last day of Term 4
DESCRIPTION:School finishes at 14:15
URL:https://www.hortonkirby.kent.sch.uk/event/last-day-of-term-4-school-finishes-at-14-15-2/
END:VEVENT
BEGIN:VEVENT
DTSTART;VALUE=DATE:20250314
DTEND;VALUE=DATE:20250315
DTSTAMP:20260422T025245
CREATED:20220907T114353Z
LAST-MODIFIED:20240729T195109Z
UID:12284-1741910400-1741996799@www.hortonkirby.kent.sch.uk
SUMMARY:Trust day - children not in school.
DESCRIPTION:
URL:https://www.hortonkirby.kent.sch.uk/event/trust-day-children-not-in-school-2/
END:VEVENT
BEGIN:VEVENT
DTSTART;VALUE=DATE:20250224
DTEND;VALUE=DATE:20250225
DTSTAMP:20260422T025245
CREATED:20220907T114153Z
LAST-MODIFIED:20240729T195205Z
UID:12281-1740355200-1740441599@www.hortonkirby.kent.sch.uk
SUMMARY:First day of Term 4
DESCRIPTION:
URL:https://www.hortonkirby.kent.sch.uk/event/first-day-of-term-3-3/
END:VEVENT
BEGIN:VEVENT
DTSTART;VALUE=DATE:20250214
DTEND;VALUE=DATE:20250215
DTSTAMP:20260422T025245
CREATED:20220907T114153Z
LAST-MODIFIED:20240918T152232Z
UID:12280-1739491200-1739577599@www.hortonkirby.kent.sch.uk
SUMMARY:Last day of Term 3
DESCRIPTION:School finished 15:15
URL:https://www.hortonkirby.kent.sch.uk/event/last-day-of-term-3-school-finishes-at-15-15-2/
END:VEVENT
BEGIN:VEVENT
DTSTART;VALUE=DATE:20250107
DTEND;VALUE=DATE:20250108
DTSTAMP:20260422T025245
CREATED:20220907T113953Z
LAST-MODIFIED:20240729T195017Z
UID:12278-1736208000-1736294399@www.hortonkirby.kent.sch.uk
SUMMARY:First day of Term 3.
DESCRIPTION:
URL:https://www.hortonkirby.kent.sch.uk/event/first-day-of-term-3-2/
END:VEVENT
BEGIN:VEVENT
DTSTART;VALUE=DATE:20250106
DTEND;VALUE=DATE:20250107
DTSTAMP:20260422T025245
CREATED:20220907T113953Z
LAST-MODIFIED:20240729T195000Z
UID:12277-1736121600-1736207999@www.hortonkirby.kent.sch.uk
SUMMARY:Staff inset day
DESCRIPTION:
URL:https://www.hortonkirby.kent.sch.uk/event/staff-inset-day-children-riot-in-school-2/
END:VEVENT
BEGIN:VEVENT
DTSTART;VALUE=DATE:20241220
DTEND;VALUE=DATE:20241221
DTSTAMP:20260422T025245
CREATED:20220907T113953Z
LAST-MODIFIED:20240905T150123Z
UID:12276-1734652800-1734739199@www.hortonkirby.kent.sch.uk
SUMMARY:Last Day of Term 2
DESCRIPTION:School finishes at 14:15
URL:https://www.hortonkirby.kent.sch.uk/event/last-day-of-term-2-school-finishes-at-14-15-2/
CATEGORIES:Term Dates
END:VEVENT
BEGIN:VEVENT
DTSTART;TZID=Europe/London:20241114T093000
DTEND;TZID=Europe/London:20241114T110000
DTSTAMP:20260422T025245
CREATED:20240729T194410Z
LAST-MODIFIED:20240729T194410Z
UID:15323-1731576600-1731582000@www.hortonkirby.kent.sch.uk
SUMMARY:Open Morning
DESCRIPTION:
URL:https://www.hortonkirby.kent.sch.uk/event/open-morning-2/
END:VEVENT
BEGIN:VEVENT
DTSTART;TZID=Europe/London:20241112T093000
DTEND;TZID=Europe/London:20241112T110000
DTSTAMP:20260422T025245
CREATED:20240729T194343Z
LAST-MODIFIED:20240729T194343Z
UID:15321-1731403800-1731409200@www.hortonkirby.kent.sch.uk
SUMMARY:Open Morning
DESCRIPTION:
URL:https://www.hortonkirby.kent.sch.uk/event/open-morning/
END:VEVENT
BEGIN:VEVENT
DTSTART;VALUE=DATE:20241104
DTEND;VALUE=DATE:20241105
DTSTAMP:20260422T025245
CREATED:20220907T113353Z
LAST-MODIFIED:20240905T143259Z
UID:12262-1730678400-1730764799@www.hortonkirby.kent.sch.uk
SUMMARY:First Day of Term 2
DESCRIPTION:
URL:https://www.hortonkirby.kent.sch.uk/event/all-children-return-to-school-3/
CATEGORIES:Term Dates
END:VEVENT
BEGIN:VEVENT
DTSTART;VALUE=DATE:20241023
DTEND;VALUE=DATE:20241024
DTSTAMP:20260422T025245
CREATED:20220907T113353Z
LAST-MODIFIED:20240729T194903Z
UID:12261-1729641600-1729727999@www.hortonkirby.kent.sch.uk
SUMMARY:Staff inset day - children not in school.
DESCRIPTION:
URL:https://www.hortonkirby.kent.sch.uk/event/staff-inset-day-children-not-in-school-4/
END:VEVENT
BEGIN:VEVENT
DTSTART;VALUE=DATE:20241022
DTEND;VALUE=DATE:20241023
DTSTAMP:20260422T025245
CREATED:20220907T113353Z
LAST-MODIFIED:20240905T142937Z
UID:12260-1729555200-1729641599@www.hortonkirby.kent.sch.uk
SUMMARY:Last Day of Term 1
DESCRIPTION:School finishes at 15:15
URL:https://www.hortonkirby.kent.sch.uk/event/last-day-of-term-1-school-finishes-at-15-15-2/
CATEGORIES:Term Dates
END:VEVENT
BEGIN:VEVENT
DTSTART;VALUE=DATE:20240902
DTEND;VALUE=DATE:20240903
DTSTAMP:20260422T025245
CREATED:20220907T112938Z
LAST-MODIFIED:20240729T194816Z
UID:12248-1725235200-1725321599@www.hortonkirby.kent.sch.uk
SUMMARY:Staff inset day - children not in school.
DESCRIPTION:
URL:https://www.hortonkirby.kent.sch.uk/event/staff-inset-day-children-not-in-school-3/
END:VEVENT
END:VCALENDAR